{"text_format":"1","workbook":"xlsx","n_sheets":3,"sheets":["Outil","Parametres","Tableau"],"not_rendered":{"charts":1,"images":4,"macros":1,"external_links":0,"defined_names":2,"comments":0,"pivot_tables":0},"unopened":[],"bounds":{"document_bytes":16777216,"sheet_cells":100000,"rows_first":2000,"rows_last":500,"rows_between":2000,"halvings":0,"cell_chars":16384,"cell_head_chars":4096},"cells_cut":0,"cells_raw":0,"read":"whole","date_system":"1900"}

{"sheet":"Outil","index":0,"n_rows":5,"n_cols":10,"rows_kept":5,"cut":false,"hidden":false,"merged":[[0,5,0,7]]}
[null,null,"Salarié: Nom Prénom\nDate de naissance",null,null,"SPST: Nom du professionnel de santé\nDate de saisie"]
[]
[]
[null,"Période","Métier","Valeur référencée","Valeur corrigée","Année Début",{"$f":"\"Année Fin\" &\nIF($F$5=\"\",\"\",\"                   (Maxi \" &$F$5 + 49 & \")\")","v":"Année Fin"},"Valeur cumulée à la fin de l'année finale"]
[null,1,null,{"$f":"IFERROR(VLOOKUP(C5,Parametres!A:B,2,0),\"\")","v":""},null,null,null,{"$f":"IFERROR(VLOOKUP(G5+1,Tableau!C:D,2,1),\"\")","v":0},{"$f":"IF(AND(F5<>\"\",F5<=INDIRECT(\"G\" & ROW()-1),ROW()<>5),\"anomalie année Début \",\"\")","v":""},{"$f":"IF(AND(G5<>\"\",OR(G5<F5,G5>$F$5+49)),\"anomalie année Fin \",\"\")","v":""}]

{"sheet":"Parametres","index":1,"n_rows":38,"n_cols":7,"rows_kept":38,"cut":false,"hidden":true,"merged":[]}
["Métiers","Estimation de l'exposition \nmoyenne annuelle pondérée sur une carrière entière*",null,"0,1 mg/m3 xannée ","1 mg/m3xannée ",null,"Code administrateur"]
["Agent de centrale d'enrobage",5.0000000000000001E-3,null,0.1,1,null,"admin"]
["Applicateur de résine",5.0000000000000001E-3]
["Applicateur d'enrobés",7.0000000000000001E-3]
["Autre: "]
["Carreleur",0.1]
["Caténairiste",0.02]
["Chauffeur PL TP",5.0000000000000001E-3]
["Conducteur de rabotteuse",7.0000000000000007E-2]
["Conducteur d'engins carrière",0.1]
["Conducteur d'engins chantier/TP",7.0000000000000001E-3]
["Couvreur Zingueur",0.01]
["Démolisseur",0.1]
["Désamianteur",5.0000000000000001E-3]
["Electricien",5.0000000000000001E-3]
["Etancheur ",7.0000000000000001E-3]
["Façadier",0.02]
["Foreur sondeur injecteur",7.0000000000000001E-3]
["Maçon - Manoeuvre bâtiment",0.05]
["Maçon Coffreur bancheur",7.0000000000000001E-3]
["Maçon finisseur",0.14000000000000001]
["Macon fumiste",0.2]
["Mécanicien carrières",0.2]
["Mécanicien d'engins TP (hors carrière)",5.0000000000000001E-3]
["Menuisier fabricant"]
["Menuisier poseur"]
["Opérateur de pose et maintenance des voies ferrées",0.04]
["Ouvrier TP non spécialisé enrobés",0.05]
["Peintre ",5.0000000000000001E-3]
["Plombier chauffagiste",2.5000000000000001E-2]
["Poseur de sols souples",7.0000000000000001E-3]
["Projeteur de béton",0.04]
["Scieur de béton",7.0000000000000001E-3]
["Soudeur aluminothermie"]
["Tailleur de pierres \n(autres)",0.01]
["Tailleur de pierres \n(forte teneur en silice)",0.1]
["Tireur de mines",5.0000000000000001E-3]
["Tunnelier",7.0000000000000007E-2]

{"sheet":"Tableau","index":2,"n_rows":53,"n_cols":6,"rows_kept":53,"cut":false,"hidden":true,"merged":[]}
["Métier","Valeur","Année","Valeur cumulée","0,1 mg/m3 x année ","1 mg/m3 x année "]
[null,null,{"$f":"Outil!F5","v":0},{"$f":"IFERROR(B2+0,\"\")","v":0},{"$f":"Parametres!$D$2","v":0.1},{"$f":"Parametres!$E$2","v":1}]
[null,null,{"$f":"C2+1","v":1},{"$f":"IFERROR(B3+D2,\"\")","v":0},{"$f":"Parametres!$D$2","v":0.1},{"$f":"Parametres!$E$2","v":1}]
[null,null,{"$f":"C3+1","v":2},{"$f":"IFERROR(B4+D3,\"\")","v":0},{"$f":"Parametres!$D$2","v":0.1},{"$f":"Parametres!$E$2","v":1}]
[null,null,3,{"$f":"IFERROR(B5+D4,\"\")","v":0},{"$f":"Parametres!$D$2","v":0.1},{"$f":"Parametres!$E$2","v":1}]
[null,null,4,0,{"$f":"Parametres!$D$2","v":0.1},{"$f":"Parametres!$E$2","v":1}]
[null,null,5,0,{"$f":"Parametres!$D$2","v":0.1},{"$f":"Parametres!$E$2","v":1}]
[null,null,6,0,{"$f":"Parametres!$D$2","v":0.1},{"$f":"Parametres!$E$2","v":1}]
[null,null,7,0,{"$f":"Parametres!$D$2","v":0.1},{"$f":"Parametres!$E$2","v":1}]
[null,null,8,0,{"$f":"Parametres!$D$2","v":0.1},{"$f":"Parametres!$E$2","v":1}]
[null,null,9,0,{"$f":"Parametres!$D$2","v":0.1},{"$f":"Parametres!$E$2","v":1}]
[null,null,10,{"$f":"IFERROR(B12+D11,\"\")","v":0},{"$f":"Parametres!$D$2","v":0.1},{"$f":"Parametres!$E$2","v":1}]
[null,null,11,{"$f":"IFERROR(B13+D12,\"\")","v":0},{"$f":"Parametres!$D$2","v":0.1},{"$f":"Parametres!$E$2","v":1}]
[null,null,12,{"$f":"IFERROR(B14+D13,\"\")","v":0},{"$f":"Parametres!$D$2","v":0.1},{"$f":"Parametres!$E$2","v":1}]
[null,null,13,{"$f":"IFERROR(B15+D14,\"\")","v":0},{"$f":"Parametres!$D$2","v":0.1},{"$f":"Parametres!$E$2","v":1}]
[null,null,14,0,{"$f":"Parametres!$D$2","v":0.1},{"$f":"Parametres!$E$2","v":1}]
[null,null,15,0,{"$f":"Parametres!$D$2","v":0.1},{"$f":"Parametres!$E$2","v":1}]
[null,null,16,0,{"$f":"Parametres!$D$2","v":0.1},{"$f":"Parametres!$E$2","v":1}]
[null,null,17,0,{"$f":"Parametres!$D$2","v":0.1},{"$f":"Parametres!$E$2","v":1}]
[null,null,18,0,{"$f":"Parametres!$D$2","v":0.1},{"$f":"Parametres!$E$2","v":1}]
[null,null,19,0,{"$f":"Parametres!$D$2","v":0.1},{"$f":"Parametres!$E$2","v":1}]
[null,null,20,0,{"$f":"Parametres!$D$2","v":0.1},{"$f":"Parametres!$E$2","v":1}]
[null,null,21,0,{"$f":"Parametres!$D$2","v":0.1},{"$f":"Parametres!$E$2","v":1}]
[null,null,22,0,{"$f":"Parametres!$D$2","v":0.1},{"$f":"Parametres!$E$2","v":1}]
[null,null,23,0,{"$f":"Parametres!$D$2","v":0.1},{"$f":"Parametres!$E$2","v":1}]
[null,null,24,0,{"$f":"Parametres!$D$2","v":0.1},{"$f":"Parametres!$E$2","v":1}]
[null,null,25,0,{"$f":"Parametres!$D$2","v":0.1},{"$f":"Parametres!$E$2","v":1}]
[null,null,26,0,{"$f":"Parametres!$D$2","v":0.1},{"$f":"Parametres!$E$2","v":1}]
[null,null,27,0,{"$f":"Parametres!$D$2","v":0.1},{"$f":"Parametres!$E$2","v":1}]
[null,null,28,0,{"$f":"Parametres!$D$2","v":0.1},{"$f":"Parametres!$E$2","v":1}]
[null,null,29,0,{"$f":"Parametres!$D$2","v":0.1},{"$f":"Parametres!$E$2","v":1}]
[null,null,30,0,{"$f":"Parametres!$D$2","v":0.1},{"$f":"Parametres!$E$2","v":1}]
[null,null,31,0,{"$f":"Parametres!$D$2","v":0.1},{"$f":"Parametres!$E$2","v":1}]
[null,null,32,0,{"$f":"Parametres!$D$2","v":0.1},{"$f":"Parametres!$E$2","v":1}]
[null,null,33,0,{"$f":"Parametres!$D$2","v":0.1},{"$f":"Parametres!$E$2","v":1}]
[null,null,34,0,{"$f":"Parametres!$D$2","v":0.1},{"$f":"Parametres!$E$2","v":1}]
[null,null,35,0,{"$f":"Parametres!$D$2","v":0.1},{"$f":"Parametres!$E$2","v":1}]
[null,null,36,0,{"$f":"Parametres!$D$2","v":0.1},{"$f":"Parametres!$E$2","v":1}]
[null,null,37,0,{"$f":"Parametres!$D$2","v":0.1},{"$f":"Parametres!$E$2","v":1}]
[null,null,38,0,{"$f":"Parametres!$D$2","v":0.1},{"$f":"Parametres!$E$2","v":1}]
[null,null,39,0,{"$f":"Parametres!$D$2","v":0.1},{"$f":"Parametres!$E$2","v":1}]
[null,null,40,{"$f":"IFERROR(B42+D41,\"\")","v":0},{"$f":"Parametres!$D$2","v":0.1},{"$f":"Parametres!$E$2","v":1}]
[null,null,41,0,{"$f":"Parametres!$D$2","v":0.1},{"$f":"Parametres!$E$2","v":1}]
[null,null,42,0,{"$f":"Parametres!$D$2","v":0.1},{"$f":"Parametres!$E$2","v":1}]
[null,null,43,0,{"$f":"Parametres!$D$2","v":0.1},{"$f":"Parametres!$E$2","v":1}]
[null,null,44,0,{"$f":"Parametres!$D$2","v":0.1},{"$f":"Parametres!$E$2","v":1}]
[null,null,45,0,{"$f":"Parametres!$D$2","v":0.1},{"$f":"Parametres!$E$2","v":1}]
[null,null,46,0,{"$f":"Parametres!$D$2","v":0.1},{"$f":"Parametres!$E$2","v":1}]
[null,null,47,0,{"$f":"Parametres!$D$2","v":0.1},{"$f":"Parametres!$E$2","v":1}]
[null,null,48,0,{"$f":"Parametres!$D$2","v":0.1},{"$f":"Parametres!$E$2","v":1}]
[null,null,49,0,{"$f":"Parametres!$D$2","v":0.1},{"$f":"Parametres!$E$2","v":1}]
[null,null,50,{"$f":"IFERROR(B52+D51,\"\")","v":0},{"$f":"Parametres!$D$2","v":0.1},{"$f":"Parametres!$E$2","v":1}]
[null,null,51,{"$f":"IFERROR(B53+D52,\"\")","v":0},{"$f":"Parametres!$D$2","v":0.1},{"$f":"Parametres!$E$2","v":1}]